BEGIN:VCALENDAR
VERSION:2.0
PRODID:-//kieselbach//NONSGML v1.0//EN
BEGIN:VEVENT
DTSTART;VALUE=DATE:20201216
DTEND;VALUE=DATE:20210130
DTSTAMP:20260425T013248Z
UID:69ebfda016d72@kieselbach.hu
CREATED:20260425T013248Z
DESCRIPTION:AMONG HIGHLIGHTS - Painters and Collectors from Munkácsy to Imre Bak\, from Manfred Weiss to Kalman Latabar
 
2020 is a special year.
 
The epidemic\, our universal experience\, has changed lots of things around us. 
Art and art-trade are seeking new ways to maintain and develop their relation to the public.
 
In this new\, interim period we have decided to differ from earlier years' practice. We close the winter season with an exclusive gallery exposure instead of holding an auction. This is the best method now to show prime pictures and offer them to our partners and collectors.
 
High quality paintings with exciting stories are waiting for the customers. Information on prices are given by the Gallery team. 
 
The classical and modern paintings of the exhibition are reflecting our picking principles. Gabor Pados\, the owner of Iroquois Collection\, and acb Gallery composed the representation of the last couple of decades. 
 
We do hope that our first joint action will open a long distance perspective to a new age\, when the classical and contemporary Hungarian art side by side\, supporting one another find the way to the public.
The exhibition is open every weekday from 10.00-18.00.
LOCATION:Kieselbach Gallery (1055 Budapest\, Szent István körút 5.)
SUMMARY:AMONG HIGHLIGHTS - SELECTION OF MASTERPIECES - PRIVATE SALE IN THE KIESELBACH GALLERY
END:VEVENT
END:VCALENDAR