BEGIN:VCALENDAR
VERSION:2.0
PRODID:-//kieselbach//NONSGML v1.0//EN
BEGIN:VEVENT
DTSTART;VALUE=DATE:20181105
DTEND;VALUE=DATE:20181125
DTSTAMP:20260425T122044Z
UID:69ec957c2373d@kieselbach.hu
CREATED:20260425T122044Z
DESCRIPTION:
LOCATION:Kieselbach Gallery
SUMMARY:THE WEAPON OF SEDUCTION 
END:VEVENT
END:VCALENDAR