BEGIN:VCALENDAR
VERSION:2.0
PRODID:-//kieselbach//NONSGML v1.0//EN
BEGIN:VEVENT
DTSTART;VALUE=DATE:20070825
DTEND;VALUE=DATE:20070910
DTSTAMP:20260425T045358Z
UID:69ec2cc6a5d98@kieselbach.hu
CREATED:20260425T045358Z
DESCRIPTION:TAMÁS KIESELBACH and GÁBOR EINSPACH cordially invite you and your friends to the exhibition of the Lützenburger Collection. The exhibition will be opened at 7 p.m. 24th August 2007. The paintings are on viewfrom 25th August to 9th September 2007 
at the Kieselbach Gallery. 

Address: Kieselbach Gallery\, 1055 Budapest\, Szent István krt. 5.
(Open: Monday to Friday: 10 a.m. to 6 p.m.\, Saturday: 10 a.m. to 1 p.m. 
LOCATION:Address: Kieselbach Gallery ( 1055 Budapest\, Szent István krt. 5.)
SUMMARY:Lützenburger Collection
END:VEVENT
END:VCALENDAR