BEGIN:VCALENDAR
VERSION:2.0
PRODID:-//kieselbach//NONSGML v1.0//EN
BEGIN:VEVENT
DTSTART;VALUE=DATE:20210727
DTEND;VALUE=DATE:20210911
DTSTAMP:20260425T023910Z
UID:69ec0d2e12e95@kieselbach.hu
CREATED:20260425T023910Z
DESCRIPTION:Dear Partners and Friends!
Gallery Kieselbach opens a private-sale exhibition this summer. All works of the exhibition are for sale. Information on prices are given by the Gallery team in person.
The exhibition is open every workday from 10.00-18.00\, till 10th September .
We are looking forward to your visit!
 
Price on request in the Gallery
 
Ferenc Máthé: +36 30 9310 114               András Szűcs: +36 30 966 9963 
LOCATION:Gallery Kieselbach
SUMMARY:The Greatest - Important Works from Munkácsy to Kondor
END:VEVENT
END:VCALENDAR