BEGIN:VCALENDAR
VERSION:2.0
PRODID:-//kieselbach//NONSGML v1.0//EN
BEGIN:VEVENT
DTSTART;VALUE=DATE:20081017
DTEND;VALUE=DATE:20081017
DTSTAMP:20260424T195154Z
UID:69ebadba784d0@kieselbach.hu
CREATED:20260424T195154Z
DESCRIPTION:Exhibiton: 4-16 October\, 2008\, daily from 10 a.m. - 6 p.m.
LOCATION:Vígszínház (Budapest XIII. Szent István krt. 14.On view: 4-16 October\, 2008\, daily from 10 a.m. - 6 p.m. In the Kieselbach Gallery\, 1055 Budapest\, Szt. István krt. 5. Auctioneer: <a href="/cgi-bin/kie
SUMMARY:38th Auction
END:VEVENT
END:VCALENDAR