BEGIN:VCALENDAR
VERSION:2.0
PRODID:-//kieselbach//NONSGML v1.0//EN
BEGIN:VEVENT
DTSTART;VALUE=DATE:20080523
DTEND;VALUE=DATE:20080523
DTSTAMP:20260424T225525Z
UID:69ebd8bdaf151@kieselbach.hu
CREATED:20260424T225525Z
DESCRIPTION:Exhibition: 13th-22nd May\, 2008\, daily from 10 a.m. - 6 p.m.
LOCATION:Vígszínház (Budapest XIII. Szent István krt. 14.On view: 13th-22nd May\, 2008\, daily from 10 a.m. - 6 p.m. In the Kieselbach Gallery\, 1055 Budapest\, Szt. István krt. 5. Auctioneer: <a href="/cgi-bin/ki
SUMMARY:37th Auction
END:VEVENT
END:VCALENDAR