BEGIN:VCALENDAR
VERSION:2.0
PRODID:-//kieselbach//NONSGML v1.0//EN
BEGIN:VEVENT
DTSTART;VALUE=DATE:20070519
DTEND;VALUE=DATE:20070519
DTSTAMP:20260424T195205Z
UID:69ebadc57e4b6@kieselbach.hu
CREATED:20260424T195205Z
DESCRIPTION:
LOCATION:Works on Paper: 19 May (Saturday) 11 a.m.
Photo: 19 May (Saturday) 17 p.m.
in the KIESELBACH GALLE ( every day 10 a.m. - 6 p.m. 

Auctioneer: <a href="/cgi-bin/kieselbach.cgi?MENUID=0&SHTEMP=stati
SUMMARY:Auction of Photos and Works on Paper
END:VEVENT
END:VCALENDAR