BEGIN:VCALENDAR
VERSION:2.0
PRODID:-//kieselbach//NONSGML v1.0//EN
BEGIN:VEVENT
DTSTART;VALUE=DATE:20060519
DTEND;VALUE=DATE:20060519
DTSTAMP:20260424T225522Z
UID:69ebd8ba6e2e5@kieselbach.hu
CREATED:20260424T225522Z
DESCRIPTION:Exhibition: 6th May-18th May\, 2006\, every day 10 a.m. - 6 p.m.
LOCATION:Vígszínház (Budapest XIII. Szent István krt. 14. On view: 6th May-18th May\, 2006\, every day 10 a.m. - 6 p.m. In Kieselbach Galéria\, 1055 Budapest\, Szt. István krt. 5.Auctioneer: <a href="/cgi-bin/kies
SUMMARY:31st Auction
END:VEVENT
END:VCALENDAR