BEGIN:VCALENDAR
VERSION:2.0
PRODID:-//kieselbach//NONSGML v1.0//EN
BEGIN:VEVENT
DTSTART;VALUE=DATE:19970919
DTEND;VALUE=DATE:19970919
DTSTAMP:20260424T211430Z
UID:69ebc11640f47@kieselbach.hu
CREATED:20260424T211430Z
DESCRIPTION:Exhibiton: 6-18 September 1997 from 10 am to 18 pm
LOCATION:Vígszínház (Budapest XIII. Szent István krt. 14. On view: 6-18 September\, 1998\, every day 10 a.m. - 6 p.m.)
SUMMARY:1st Auction
END:VEVENT
END:VCALENDAR