BEGIN:VCALENDAR
VERSION:2.0
PRODID:-//kieselbach//NONSGML v1.0//EN
BEGIN:VEVENT
DTSTART;VALUE=DATE:19971212
DTEND;VALUE=DATE:19971212
DTSTAMP:20260424T220032Z
UID:69ebcbe01b658@kieselbach.hu
CREATED:20260424T220032Z
DESCRIPTION:Exhibition: 29 November-11 December\, 1997\, every day 10 a.m. - 6 p.m.
LOCATION:Vígszínház (Budapest XIII. Szent István krt. 14. On view: 29 November-11 December\, 1997\, every day 10 a.m. - 6 p.m.)
SUMMARY:2nd Auction
END:VEVENT
END:VCALENDAR