BEGIN:VCALENDAR
VERSION:2.0
PRODID:-//kieselbach//NONSGML v1.0//EN
BEGIN:VEVENT
DTSTART;VALUE=DATE:19980320
DTEND;VALUE=DATE:19980320
DTSTAMP:20260424T173012Z
UID:69eb8c84bfd25@kieselbach.hu
CREATED:20260424T173012Z
DESCRIPTION:Exhibiton: 7-19 March 1998\, every day 10 a.m. - 6 p.m.
LOCATION:Vígszínház (Budapest XIII. Szent István krt. 14. On view: 7-19 March 1998\, every day 10 a.m. - 6 p.m.)
SUMMARY:3rd Auction
END:VEVENT
END:VCALENDAR