BEGIN:VCALENDAR
VERSION:2.0
PRODID:-//kieselbach//NONSGML v1.0//EN
BEGIN:VEVENT
DTSTART;VALUE=DATE:19980925
DTEND;VALUE=DATE:19980925
DTSTAMP:20260425T004303Z
UID:69ebf1f7bbadc@kieselbach.hu
CREATED:20260425T004303Z
DESCRIPTION:Exhibiton: 12-24 September\, 1998\, every day 10 a.m. - 6 p.m.
LOCATION:Vígszínház (Budapest XIII. Szent István krt. 14. On view: 12-24 September\, 1998\, every day 10 a.m. - 6 p.m.)
SUMMARY:5th Auction
END:VEVENT
END:VCALENDAR