BEGIN:VCALENDAR
VERSION:2.0
PRODID:-//kieselbach//NONSGML v1.0//EN
BEGIN:VEVENT
DTSTART;VALUE=DATE:20001208
DTEND;VALUE=DATE:20001208
DTSTAMP:20260424T212315Z
UID:69ebc32367010@kieselbach.hu
CREATED:20260424T212315Z
DESCRIPTION:
Exhibition: 25 November - 7 December 2000 from 10 am to 6 pm
 

LOCATION:Vígszínház (Budapest XIII. Szent István krt. 14. On view:25 November-7 December\, 2000\, every day 10 a.m. - 6 p.m.)
SUMMARY:14th Auction
END:VEVENT
END:VCALENDAR