BEGIN:VCALENDAR
VERSION:2.0
PRODID:-//kieselbach//NONSGML v1.0//EN
BEGIN:VEVENT
DTSTART;VALUE=DATE:20010427
DTEND;VALUE=DATE:20010427
DTSTAMP:20260424T195238Z
UID:69ebade6125cf@kieselbach.hu
CREATED:20260424T195238Z
DESCRIPTION:
Exhibition 18-26 April 2011 from 10 am to 6 pm
 

LOCATION:Vígszínház (Budapest XIII. Szent István krt. 14. On view: 18-26 April\, 2001\, every day 10 a.m. - 6 p.m.)
SUMMARY:15th Auction
END:VEVENT
END:VCALENDAR