BEGIN:VCALENDAR
VERSION:2.0
PRODID:-//kieselbach//NONSGML v1.0//EN
BEGIN:VEVENT
DTSTART;VALUE=DATE:20020419
DTEND;VALUE=DATE:20020419
DTSTAMP:20260424T212316Z
UID:69ebc324e8d65@kieselbach.hu
CREATED:20260424T212316Z
DESCRIPTION:
Exhibtion: 10-18 April 2002 from 10 am to 6 pm

LOCATION:Vígszínház (Budapest XIII. Szent István krt. 14. On view: 10-18 April\, 2003\, every day 10 a.m. - 6 p.m.)
SUMMARY:18th Auction
END:VEVENT
END:VCALENDAR