BEGIN:VCALENDAR
VERSION:2.0
PRODID:-//kieselbach//NONSGML v1.0//EN
BEGIN:VEVENT
DTSTART;VALUE=DATE:20031212
DTEND;VALUE=DATE:20031212
DTSTAMP:20260424T225521Z
UID:69ebd8b9c3f0a@kieselbach.hu
CREATED:20260424T225521Z
DESCRIPTION:Exhibition: 3-11 December\, 2003\, every day 10 a.m. - 6 p.m.
LOCATION:Vígszínház (Budapest XIII\, Szent István krt. 14.On view: 3-11 December\, 2003\, every day 10 a.m. - 6 p.m.)
SUMMARY:24th Auction
END:VEVENT
END:VCALENDAR