BEGIN:VCALENDAR
VERSION:2.0
PRODID:-//kieselbach//NONSGML v1.0//EN
BEGIN:VEVENT
DTSTART;VALUE=DATE:19991211
DTEND;VALUE=DATE:19991211
DTSTAMP:20260424T225521Z
UID:69ebd8b944118@kieselbach.hu
CREATED:20260424T225521Z
DESCRIPTION:10th Sale of Kieselbach Gallery
LOCATION:Vígszínház (Budapest XIII. Szent István krt. 14. On view: 27th November-9th December\, 1999)
SUMMARY:10th Auction
END:VEVENT
END:VCALENDAR