BEGIN:VCALENDAR
VERSION:2.0
PRODID:-//kieselbach//NONSGML v1.0//EN
BEGIN:VEVENT
DTSTART;VALUE=DATE:20000519
DTEND;VALUE=DATE:20000519
DTSTAMP:20260424T184913Z
UID:69eb9f0905038@kieselbach.hu
CREATED:20260424T184913Z
DESCRIPTION:Exhibition: 6-18 May 2000\, every day 10 a.m. - 6 p.m.
LOCATION:Vígszínház (Budapest XIII. Szent István krt. 14. On view: 6-18 May\, 2000\, every day 10 a.m. - 6 p.m.)
SUMMARY:11th Auction
END:VEVENT
END:VCALENDAR