BEGIN:VCALENDAR
VERSION:2.0
PRODID:-//kieselbach//NONSGML v1.0//EN
BEGIN:VEVENT
DTSTART;VALUE=DATE:20000520
DTEND;VALUE=DATE:20000520
DTSTAMP:20260424T212313Z
UID:69ebc32140611@kieselbach.hu
CREATED:20260424T212313Z
DESCRIPTION:
Exhibiton: 6-18 May 2000\, from 10 am to 6 pm.

LOCATION:Vígszínház (Budapest XIII. Szent István krt. 14. On view: 6-18 May\, 2000\, every day 10 a.m. - 6 p.m.)
SUMMARY:12th Auction
END:VEVENT
END:VCALENDAR