BEGIN:VCALENDAR
VERSION:2.0
PRODID:-//kieselbach//NONSGML v1.0//EN
BEGIN:VEVENT
DTSTART;VALUE=DATE:20011012
DTEND;VALUE=DATE:20011012
DTSTAMP:20260424T212317Z
UID:69ebc32507f67@kieselbach.hu
CREATED:20260424T212317Z
DESCRIPTION:
Exhibiton: 3-11 October 2011 from 10 am to 6 pm
 
 

LOCATION:Vígszínház (Budapest XIII. Szent István krt. 14. On view: 3-11 October\, 2001\, every day 10 a.m. - 6 p.m.)
SUMMARY:16th Auction
END:VEVENT
END:VCALENDAR