BEGIN:VCALENDAR
VERSION:2.0
PRODID:-//kieselbach//NONSGML v1.0//EN
BEGIN:VEVENT
DTSTART;VALUE=DATE:20020911
DTEND;VALUE=DATE:20020911
DTSTAMP:20260424T220031Z
UID:69ebcbdf0c5f1@kieselbach.hu
CREATED:20260424T220031Z
DESCRIPTION:Exhibition: 31 August - 10 September 2002\, from 10 am to 18 pm
LOCATION:Vígszínház (Budapest XIII. Szent István krt. 14. On view: 31st August-10 September\, 2003\, every day 10 a.m. - 6 p.m.)
SUMMARY:19th Auction
END:VEVENT
END:VCALENDAR