BEGIN:VCALENDAR
VERSION:2.0
PRODID:-//kieselbach//NONSGML v1.0//EN
BEGIN:VEVENT
DTSTART;VALUE=DATE:20031004
DTEND;VALUE=DATE:20031004
DTSTAMP:20260424T212313Z
UID:69ebc32154a3e@kieselbach.hu
CREATED:20260424T212313Z
DESCRIPTION:Exhibition: 23rd September-3rd October\, 2003 from 10 a.m. to 6 p.m.
LOCATION:Corinthia Grand Hotel RoyalBudapest (Erzsébet krt. 43-49. On view: 23rd September-3rd October\, 2003)
SUMMARY:23rd Auction
END:VEVENT
END:VCALENDAR