BEGIN:VCALENDAR
VERSION:2.0
PRODID:-//kieselbach//NONSGML v1.0//EN
BEGIN:VEVENT
DTSTART;VALUE=DATE:20030411
DTEND;VALUE=DATE:20030411
DTSTAMP:20260424T195223Z
UID:69ebadd748b28@kieselbach.hu
CREATED:20260424T195223Z
DESCRIPTION:Exhibiton: 2-10 April\, 2003\, every day 10 a.m. - 6 p.m.
LOCATION:Vígszínház (Budapest XIII. Szent István krt. 14.On view: 2-10 April\, 2003\, every day 10 a.m. - 6 p.m.)
SUMMARY:21st Auction
END:VEVENT
END:VCALENDAR