BEGIN:VCALENDAR
VERSION:2.0
PRODID:-//kieselbach//NONSGML v1.0//EN
BEGIN:VEVENT
DTSTART;VALUE=DATE:20230522
DTEND;VALUE=DATE:20230522
DTSTAMP:20260424T225559Z
UID:69ebd8df50e48@kieselbach.hu
CREATED:20260424T225559Z
DESCRIPTION:
LOCATION:Budapest Marriott Hotel
SUMMARY:71st Spring auction
END:VEVENT
END:VCALENDAR