BEGIN:VCALENDAR
VERSION:2.0
PRODID:-//kieselbach//NONSGML v1.0//EN
BEGIN:VEVENT
DTSTART;VALUE=DATE:20221111
DTEND;VALUE=DATE:20221111
DTSTAMP:20260424T223726Z
UID:69ebd48683ed9@kieselbach.hu
CREATED:20260424T223726Z
DESCRIPTION:
LOCATION:Budapest Marriott Hotel
SUMMARY:1st Contemporary Auction
END:VEVENT
END:VCALENDAR