BEGIN:VCALENDAR
VERSION:2.0
PRODID:-//kieselbach//NONSGML v1.0//EN
BEGIN:VEVENT
DTSTART;VALUE=DATE:20221014
DTEND;VALUE=DATE:20221014
DTSTAMP:20260424T220017Z
UID:69ebcbd1b517a@kieselbach.hu
CREATED:20260424T220017Z
DESCRIPTION:
LOCATION:Budapest Marriott Hotel
SUMMARY:69th auction
END:VEVENT
END:VCALENDAR