BEGIN:VCALENDAR
VERSION:2.0
PRODID:-//kieselbach//NONSGML v1.0//EN
BEGIN:VEVENT
DTSTART;VALUE=DATE:20151221
DTEND;VALUE=DATE:20151221
DTSTAMP:20260424T195215Z
UID:69ebadcfc723b@kieselbach.hu
CREATED:20260424T195215Z
DESCRIPTION:We cordially invite you to our Winter Sale.
The auction will be held on Monday\, 21 December 2015 at 6 p.m. In Hotel Marriott.
The pictures are on view in the Kieselbach Gallery from December 5-20 every day between 10 am to 6 pm.
 
LOCATION:Hotel Marriott Budapest (H-1052 Budapest Apáczai Csere János u. 5.)
SUMMARY:51st Winter Sale
END:VEVENT
END:VCALENDAR