BEGIN:VCALENDAR
VERSION:2.0
PRODID:-//kieselbach//NONSGML v1.0//EN
BEGIN:VEVENT
DTSTART;VALUE=DATE:20131221
DTEND;VALUE=DATE:20131221
DTSTAMP:20260424T220022Z
UID:69ebcbd6234f2@kieselbach.hu
CREATED:20260424T220022Z
DESCRIPTION:The auction will be held in the Ball Room of Hotel Marriott on 21st December 2013 at 6 p.m. 
The Kieselbach Gallery kindly invites you and your friends to the 45th Auction and to the Exhibition from 7 to 20 December 2013\, every day from 10 a.m. to 6 p.m.
LOCATION:Hotel Marriott Budapest (H-1052 Budapest\, 4 Apáczai Csere János utca)
SUMMARY:45th Auction
END:VEVENT
END:VCALENDAR