BEGIN:VCALENDAR
VERSION:2.0
PRODID:-//kieselbach//NONSGML v1.0//EN
BEGIN:VEVENT
DTSTART;VALUE=DATE:20081219
DTEND;VALUE=DATE:20081219
DTSTAMP:20260424T220028Z
UID:69ebcbdc1d06f@kieselbach.hu
CREATED:20260424T220028Z
DESCRIPTION:Exhibition: 6-18 December\, 2008\, daily from 10 a.m. - 6 p.m.
LOCATION:Vígszínház (Budapest XIII. Szent István krt. 14.On view: 6-18 December\, 2008\, daily from 10 a.m. - 6 p.m. In the Kieselbach Gallery\, 1055 Budapest\, Szt. István krt. 5. Auctioneer: <a href="/cgi-bin/ki
SUMMARY:39th Auction
END:VEVENT
END:VCALENDAR