BEGIN:VCALENDAR
VERSION:2.0
PRODID:-//kieselbach//NONSGML v1.0//EN
BEGIN:VEVENT
DTSTART;VALUE=DATE:20120217
DTEND;VALUE=DATE:20120228
DTSTAMP:20260425T122159Z
UID:69ec95c7e5873@kieselbach.hu
CREATED:20260425T122159Z
DESCRIPTION:A kilencvenes évek festészete. Bak Imrétől Trombitás Tamásig.
A Kieselbach Galéria 2012. február 17-én nyíló kiállításán az Unicredit Bank kortárs gyűjteményét mutatja be\, amely a kilencvenes évek magyar festészetéből mutat különleges válogatást.
A kiállítás 2012. február 27-ig látogatható.
LOCATION:Kieselbach Galéria (1055 Budapest\, Szent István krt 5.)
SUMMARY:Unicredit-gyűjtemény. A kilencvenes évek festészete
END:VEVENT
END:VCALENDAR