BEGIN:VCALENDAR
VERSION:2.0
PRODID:-//kieselbach//NONSGML v1.0//EN
BEGIN:VEVENT
DTSTART;VALUE=DATE:20070825
DTEND;VALUE=DATE:20070910
DTSTAMP:20260425T031443Z
UID:69ec158387c66@kieselbach.hu
CREATED:20260425T031443Z
DESCRIPTION:KIESELBACH TAMÁS és EINSPACH GÁBORtisztelettel meghívja Önt és barátait a Lützenburger gyűjtemény kiállítására\, amely 2007. augusztus 24-én (pénteken) 19 órakor nyílik a Kieselbach Galériában. 
LOCATION:Kieselbach Galéria (1055 Budapest\, Szent István krt. 5.)
SUMMARY:Lützenburger gyűjtemény
END:VEVENT
END:VCALENDAR