BEGIN:VCALENDAR
VERSION:2.0
PRODID:-//kieselbach//NONSGML v1.0//EN
BEGIN:VEVENT
DTSTART;VALUE=DATE:20081017
DTEND;VALUE=DATE:20081017
DTSTAMP:20260424T153228Z
UID:69eb70ec640fe@kieselbach.hu
CREATED:20260424T153228Z
DESCRIPTION:Kiállítás: 2008. október 4-16. naponta 10-18 óráig
 
LOCATION:Vígszínház (Budapest XIII. Szent István krt. 14.)
SUMMARY:38. Aukció
END:VEVENT
END:VCALENDAR