BEGIN:VCALENDAR
VERSION:2.0
PRODID:-//kieselbach//NONSGML v1.0//EN
BEGIN:VEVENT
DTSTART;VALUE=DATE:20080529
DTEND;VALUE=DATE:20080529
DTSTAMP:20260424T153105Z
UID:69eb709973879@kieselbach.hu
CREATED:20260424T153105Z
DESCRIPTION:A Kieselbach Galéria eddigi három fotóárverésével sokat tett azért\, hogy a magyar fotográfia minősége\, értéke láthatóvá váljon\, és most újra teszünk egy lépést ennek érdekében. A galéria első ajánlójegyzéke a piacépítés új formáját jelenti. Az anyagban többek között olyan fotósok műveit válogattuk\, akik a jövőben is rendszeresen láthatóak lesznek a galéria kiállításain és árverésein.
http://www.kieselbach.hu/kiadvany/kieselbach---foto-ajanlojegyzek_201
Az aukciót Winkler Nóra vezeti.
LOCATION:Kieselbach Galéria (1055 Budapest\, Szt. István krt. 5.)
SUMMARY:Fotóaukció 2008
END:VEVENT
END:VCALENDAR