BEGIN:VCALENDAR
VERSION:2.0
PRODID:-//kieselbach//NONSGML v1.0//EN
BEGIN:VEVENT
DTSTART;VALUE=DATE:20071016
DTEND;VALUE=DATE:20071016
DTSTAMP:20260424T153144Z
UID:69eb70c0adb2c@kieselbach.hu
CREATED:20260424T153144Z
DESCRIPTION:Kiállítás: 2007. október 6-15. minden nap 10-18 óráig.
LOCATION:Vígszínház (Budapest XIII. Szent István krt. 14.)
SUMMARY:35. Aukció
END:VEVENT
END:VCALENDAR