BEGIN:VCALENDAR
VERSION:2.0
PRODID:-//kieselbach//NONSGML v1.0//EN
BEGIN:VEVENT
DTSTART;VALUE=DATE:20070519
DTEND;VALUE=DATE:20070519
DTSTAMP:20260424T153241Z
UID:69eb70f9e0a5f@kieselbach.hu
CREATED:20260424T153241Z
DESCRIPTION:Az aukciót Winkler Nóra vezeti. Az árverést Szabó Károly szervezte.
LOCATION:Kieselbach Galéria (1055 Budapest\, Szent István krt. 5.)
SUMMARY:Fotó- és grafikai aukció
END:VEVENT
END:VCALENDAR