BEGIN:VCALENDAR
VERSION:2.0
PRODID:-//kieselbach//NONSGML v1.0//EN
BEGIN:VEVENT
DTSTART;VALUE=DATE:20070511
DTEND;VALUE=DATE:20070511
DTSTAMP:20260424T153106Z
UID:69eb709a020bb@kieselbach.hu
CREATED:20260424T153106Z
DESCRIPTION:Kiállítás: 2007. április 28-május 10. minden nap 10-18 óráig
LOCATION:Vígszínház (Budapest XIII. Szent István krt. 14.)
SUMMARY:34. Aukció
END:VEVENT
END:VCALENDAR