BEGIN:VCALENDAR
VERSION:2.0
PRODID:-//kieselbach//NONSGML v1.0//EN
BEGIN:VEVENT
DTSTART;VALUE=DATE:20061215
DTEND;VALUE=DATE:20061215
DTSTAMP:20260424T211850Z
UID:69ebc21ad4a5c@kieselbach.hu
CREATED:20260424T211850Z
DESCRIPTION:Kiállítás: 2006. december 3-14. minden nap 10-18 óráig Az aukciót Winkler Nóra vezeti.
LOCATION:Vígszínház (Budapest XIII. Szent István krt. 14.)
SUMMARY:33. Aukció
END:VEVENT
END:VCALENDAR