BEGIN:VCALENDAR
VERSION:2.0
PRODID:-//kieselbach//NONSGML v1.0//EN
BEGIN:VEVENT
DTSTART;VALUE=DATE:20051216
DTEND;VALUE=DATE:20051216
DTSTAMP:20260424T153245Z
UID:69eb70fd314d9@kieselbach.hu
CREATED:20260424T153245Z
DESCRIPTION:Vígszínház\, Budapest XIII. Szent István krt. 14. Kiállítás: 2005. december 3-december 15. minden nap 10-18 óráig Helyszín: Kieselbach Galéria\, 1055 Budapest\, Szt. István krt. 5. Az aukciót Winkler Nóra vezeti.
LOCATION:Vígszínház (Budapest XIII. Szent István krt. 14.)
SUMMARY:30. jubileumi aukció
END:VEVENT
END:VCALENDAR