BEGIN:VCALENDAR
VERSION:2.0
PRODID:-//kieselbach//NONSGML v1.0//EN
BEGIN:VEVENT
DTSTART;VALUE=DATE:20041210
DTEND;VALUE=DATE:20041210
DTSTAMP:20260424T211833Z
UID:69ebc2090f3c0@kieselbach.hu
CREATED:20260424T211833Z
DESCRIPTION:A Kieselbach Galéria téli árverése kellemes hangulatban\, telt ház mellett zajlott le a Vígszínházban. Folyamatos\, kiegyensúlyozottan magas színvonal jellemezte az árverést most is\, a kiemelkedő eredmények azonban ezúttal sem maradtak el. Az összleütés 488 880 000 forint volt\, mely eddig a legmagasabb a téli idényben\, és az őszi aukció összleütését több mint 41 millió Ft-tal haladta meg.A legmagasabb árat a 19. és a 20. század két kimagasló alkotójának képe érte el: Munkácsy Mihály Testvérek című festményének vevője - a 12 millió forintos kikiáltási árat megduplázva - 26 400 000 forintot fizetett a képért. Nemes Lampérth József Híd a Szajnán című alkotása\, dacára annak\, hogy papír alapon tussal készült műről van szó\, ugyancsak 26 400 000 forintért cserélt gazdát. Jutalékkal együtt több mint 20 millió Ft-ot 5 képért fizetett ki új tulajdonosa: Czigány Dezső Önarcképét 24 millió forintért\, Vaszary János: Art deco táncosok című képét 22 800 000 Ft-ért\, Berény Róbert: Kékkancsós csendélet című\, 1911-es "Fauves"-os festményét 21\,6 millióért\, illetve Schönberger Armand Modell enteriőrben\, csendélettel valamint Aba-Novák Vilmos: Körmenet című alkotását 20\,4 millió forintért vásárolták meg. 10 millió forint fölötti összeget tizenkét festményért fizetnek majd új tulajdonosaik. Közülük is kiemelkedően szerepelt Aba-Novák Vilmos életművéből egy másik szép festmény: a Kilátás az ablakomból\, mely 18 millió Ft-ért cserélt gazdát.A galéria következő árverése tavasszal lesz ismét a Vígszínház impozáns épületében.
LOCATION:Vígszínház (Budapest XIII. Szent István krt. 14.)
SUMMARY:27. Aukció
END:VEVENT
END:VCALENDAR