BEGIN:VCALENDAR
VERSION:2.0
PRODID:-//kieselbach//NONSGML v1.0//EN
BEGIN:VEVENT
DTSTART;VALUE=DATE:20041012
DTEND;VALUE=DATE:20041012
DTSTAMP:20260424T153208Z
UID:69eb70d8ead2f@kieselbach.hu
CREATED:20260424T153208Z
DESCRIPTION:Kiállítás: 2004. szeptember 30-október 11. minden nap 10-18 óráig.
LOCATION:Vígszínház (Budapest XIII. Szent István krt. 14.)
SUMMARY:26. Aukció
END:VEVENT
END:VCALENDAR