BEGIN:VCALENDAR
VERSION:2.0
PRODID:-//kieselbach//NONSGML v1.0//EN
BEGIN:VEVENT
DTSTART;VALUE=DATE:19980320
DTEND;VALUE=DATE:19980320
DTSTAMP:20260424T153236Z
UID:69eb70f4e4098@kieselbach.hu
CREATED:20260424T153236Z
DESCRIPTION:Kiállítás: 1998. március 7-19. minden nap 10-18 óráig
LOCATION:Vígszínház (Budapest XIII. Szent István krt. 14.)
SUMMARY:3. Aukció
END:VEVENT
END:VCALENDAR