BEGIN:VCALENDAR
VERSION:2.0
PRODID:-//kieselbach//NONSGML v1.0//EN
BEGIN:VEVENT
DTSTART;VALUE=DATE:20040428
DTEND;VALUE=DATE:20040428
DTSTAMP:20260424T211818Z
UID:69ebc1faea0a4@kieselbach.hu
CREATED:20260424T211818Z
DESCRIPTION:A Kieselbach Galéria és Aukciósház 25. jubileumi árverésének sztárképe sokak várakozásának megfelelően Csók István idillikus A tavasz ébredése című festménye lett. A festő képeinek eddigi aukciós rekordját messze meghaladva a 10 millió Ft-os kikiáltási árról 34 millió Ft-ra emelkedett. Az árverés második legmagasabb árat elért festménye Patkó Károly múzeumi kvalitású Gyümölcsszedők című alkotása volt\, amelyet 26 millió Ft-ért ütöttek le (kikiáltási ár: 18 millió Ft). Paál László külföldről visszakerült Barbizoni erdeje 16 milliós kikiáltási árról 22 milliót Ft-ért talált gazdára.Az immár 25. aukció újra igazolta azt\, hogy a klasszikus modern festményekre specializálódott Kieselbach Galéria rendszeres szakértői kutatómunkával alátámasztott képei sikeresen szerepelnek az árveréseken. Így a szakértőknek és a nagyközönségnek sem okozott meglepetést\, hogy az aukció utolsó tételeként árverezett Márffy Ödön Csendélet 4\,5 millió Ft-os induló ár után rendkívül magas\, 17 millió Ft-os leütési árat ért el több mint háromszoros áremelkedést követően. Márffytól több más\, jelentős kép is szerepelt az aukción\, melyek közül a fauve-expresszionista Pletyka 13 millió Ft-ért kelt el (kikiáltási ár 8 millió Ft). Batthyány Gyulától szintén több főmű is kalapács alá került: nagy méretű festménye\, a Zsokéklub - melyen a korabeli magyar arisztokrácia válogatott elitje vonul végig - 16 millió Ft-ért (kikiáltási ár: 12 millió Ft)\, míg Sztaray Máriáról készült portréja 13 millió Ft-ért (kikiáltási ár: 5 millió Ft) talált gazdára. Mednyánszky László összesen 8 képpel volt képviselve az aukción\, közülük a két legdrágább A város peremén című festménye 9 millió Ft-ért\, Téli erdő című képe pedig 6 millió Ft-ért kelt el. Az aukció folyamán végig tapasztalható volt\, hogy a kikiáltási árak számos alkalommal kétszeres\, háromszoros\, sőt akár sokszoros áremelkedést követően\, sokszor heves licitharcok után találtak gazdára. Összleütés: 454 490 000 Ft1-10 millió Ft között 79 kép kelt el
LOCATION:Vígszínház (Budapest XIII. Szent István krt. 14.)
SUMMARY:25. Aukció
END:VEVENT
END:VCALENDAR