BEGIN:VCALENDAR
VERSION:2.0
PRODID:-//kieselbach//NONSGML v1.0//EN
BEGIN:VEVENT
DTSTART;VALUE=DATE:19981211
DTEND;VALUE=DATE:19981211
DTSTAMP:20260424T153105Z
UID:69eb709925d01@kieselbach.hu
CREATED:20260424T153105Z
DESCRIPTION:Kiállítás: 1998. november 28-december 10.\, minden nap 10-18 óráig
LOCATION:Vígszínház (Budapest XIII\, Szent István krt. 14.)
SUMMARY:6. Aukció
END:VEVENT
END:VCALENDAR