BEGIN:VCALENDAR
VERSION:2.0
PRODID:-//kieselbach//NONSGML v1.0//EN
BEGIN:VEVENT
DTSTART;VALUE=DATE:20001118
DTEND;VALUE=DATE:20001118
DTSTAMP:20260424T211852Z
UID:69ebc21c7b8eb@kieselbach.hu
CREATED:20260424T211852Z
DESCRIPTION:Kiállítás: 2000. november 10-17\, minden nap 10-18 óráig
LOCATION:Hotel Inter-Continental (Budapest V. Apáczai Csere János u. 12-14.)
SUMMARY:13. Aukció
END:VEVENT
END:VCALENDAR