BEGIN:VCALENDAR
VERSION:2.0
PRODID:-//kieselbach//NONSGML v1.0//EN
BEGIN:VEVENT
DTSTART;VALUE=DATE:20010427
DTEND;VALUE=DATE:20010427
DTSTAMP:20260424T153108Z
UID:69eb709c6d008@kieselbach.hu
CREATED:20260424T153108Z
DESCRIPTION: Kiállítás: 2001. április 18-26. minden nap 10-18 óráig
LOCATION:Vígszínház (Budapest XIII. Szent István krt. 14.)
SUMMARY:15. Aukció
END:VEVENT
END:VCALENDAR