BEGIN:VCALENDAR
VERSION:2.0
PRODID:-//kieselbach//NONSGML v1.0//EN
BEGIN:VEVENT
DTSTART;VALUE=DATE:20020419
DTEND;VALUE=DATE:20020419
DTSTAMP:20260424T211847Z
UID:69ebc2177f1a4@kieselbach.hu
CREATED:20260424T211847Z
DESCRIPTION:Kiállítás: 2002. április 10-18. minden nap 10-18 óráig
LOCATION:Vígszínház (Budapest XIII. Szent István krt. 14.)
SUMMARY:18. Aukció
END:VEVENT
END:VCALENDAR