BEGIN:VCALENDAR
VERSION:2.0
PRODID:-//kieselbach//NONSGML v1.0//EN
BEGIN:VEVENT
DTSTART;VALUE=DATE:19990618
DTEND;VALUE=DATE:19990618
DTSTAMP:20260424T153203Z
UID:69eb70d3adf15@kieselbach.hu
CREATED:20260424T153203Z
DESCRIPTION:Kiállítás: 1999. június 5-17. minden nap 10-18 óráig
LOCATION:Vígszínház (Budapest XIII. Szent István krt. 14.)
SUMMARY:8. Aukció
END:VEVENT
END:VCALENDAR