BEGIN:VCALENDAR
VERSION:2.0
PRODID:-//kieselbach//NONSGML v1.0//EN
BEGIN:VEVENT
DTSTART;VALUE=DATE:19991210
DTEND;VALUE=DATE:19991210
DTSTAMP:20260424T195452Z
UID:69ebae6cde428@kieselbach.hu
CREATED:20260424T195452Z
DESCRIPTION:Kiállítás: 1999. november 27-december 9. minden nap 10-18 óráig
LOCATION:Vígszínház (Budapest XIII. Szent István krt. 14.)
SUMMARY:9. Aukció
END:VEVENT
END:VCALENDAR