BEGIN:VCALENDAR
VERSION:2.0
PRODID:-//kieselbach//NONSGML v1.0//EN
BEGIN:VEVENT
DTSTART;VALUE=DATE:20000519
DTEND;VALUE=DATE:20000519
DTSTAMP:20260424T153107Z
UID:69eb709b3eaf5@kieselbach.hu
CREATED:20260424T153107Z
DESCRIPTION:Kiállítás: 2000. május 6-18. minden nap 10-18 óráig
LOCATION:Vígszínház (Budapest XIII. Szent István krt. 14.)
SUMMARY:11. Aukció
END:VEVENT
END:VCALENDAR