BEGIN:VCALENDAR
VERSION:2.0
PRODID:-//kieselbach//NONSGML v1.0//EN
BEGIN:VEVENT
DTSTART;VALUE=DATE:20011012
DTEND;VALUE=DATE:20011012
DTSTAMP:20260424T153210Z
UID:69eb70da0e378@kieselbach.hu
CREATED:20260424T153210Z
DESCRIPTION:Kiállítás: 2001. október 3-11. minden nap 10-18 óráig
LOCATION:Vígszínház (Budapest XIII. Szent István krt. 14.)
SUMMARY:16. Aukció
END:VEVENT
END:VCALENDAR